BEGIN:VCALENDAR
VERSION:2.0
PRODID:-//Mike Oliver Band - ECPv6.15.11//NONSGML v1.0//EN
CALSCALE:GREGORIAN
METHOD:PUBLISH
X-ORIGINAL-URL:https://mikeoliverrocks.com
X-WR-CALDESC:Events for Mike Oliver Band
REFRESH-INTERVAL;VALUE=DURATION:PT1H
X-Robots-Tag:noindex
X-PUBLISHED-TTL:PT1H
BEGIN:VTIMEZONE
TZID:America/Chicago
BEGIN:DAYLIGHT
TZOFFSETFROM:-0600
TZOFFSETTO:-0500
TZNAME:CDT
DTSTART:20180311T080000
END:DAYLIGHT
BEGIN:STANDARD
TZOFFSETFROM:-0500
TZOFFSETTO:-0600
TZNAME:CST
DTSTART:20181104T070000
END:STANDARD
BEGIN:DAYLIGHT
TZOFFSETFROM:-0600
TZOFFSETTO:-0500
TZNAME:CDT
DTSTART:20190310T080000
END:DAYLIGHT
BEGIN:STANDARD
TZOFFSETFROM:-0500
TZOFFSETTO:-0600
TZNAME:CST
DTSTART:20191103T070000
END:STANDARD
BEGIN:DAYLIGHT
TZOFFSETFROM:-0600
TZOFFSETTO:-0500
TZNAME:CDT
DTSTART:20200308T080000
END:DAYLIGHT
BEGIN:STANDARD
TZOFFSETFROM:-0500
TZOFFSETTO:-0600
TZNAME:CST
DTSTART:20201101T070000
END:STANDARD
BEGIN:DAYLIGHT
TZOFFSETFROM:-0600
TZOFFSETTO:-0500
TZNAME:CDT
DTSTART:20210314T080000
END:DAYLIGHT
BEGIN:STANDARD
TZOFFSETFROM:-0500
TZOFFSETTO:-0600
TZNAME:CST
DTSTART:20211107T070000
END:STANDARD
END:VTIMEZONE
BEGIN:VEVENT
DTSTART;TZID=America/Chicago:20200606T190000
DTEND;TZID=America/Chicago:20200606T230000
DTSTAMP:20260421T075456
CREATED:20200304T201244Z
LAST-MODIFIED:20200304T201244Z
UID:534-1591470000-1591484400@mikeoliverrocks.com
SUMMARY:Private Party with "Rapid Waters Band"
DESCRIPTION:Share this:\n				Click to share on Facebook (Opens in new window)\n				Facebook\n			\n				Click to share on X (Opens in new window)\n				X
URL:https://mikeoliverrocks.com/event/private-party-with-rapid-waters-band/
END:VEVENT
BEGIN:VEVENT
DTSTART;TZID=America/Chicago:20200605T200000
DTEND;TZID=America/Chicago:20200606T000000
DTSTAMP:20260421T075456
CREATED:20200211T222838Z
LAST-MODIFIED:20200603T204629Z
UID:515-1591387200-1591401600@mikeoliverrocks.com
SUMMARY:90's Country Show
DESCRIPTION:Our First Show at Van’s! \n\n\n\n\n\n\n\n \n\n\n\n\n\n\n\n\n\n\nShare this:\n				Click to share on Facebook (Opens in new window)\n				Facebook\n			\n				Click to share on X (Opens in new window)\n				X
URL:https://mikeoliverrocks.com/event/90s-country-show/
LOCATION:Van’s Bar and Grill\, 2404 Halls Hill Pike\, Murfreesboro\, TN\, 37130\, United States
CATEGORIES:Live Music
ATTACH;FMTTYPE=image/jpeg:https://mikeoliverrocks.com/wp-content/uploads/2020/02/Vans-Bar-and-Grill.jpg
END:VEVENT
BEGIN:VEVENT
DTSTART;TZID=America/Chicago:20200517T133000
DTEND;TZID=America/Chicago:20200517T173000
DTSTAMP:20260421T075456
CREATED:20200304T200517Z
LAST-MODIFIED:20200304T200517Z
UID:529-1589722200-1589736600@mikeoliverrocks.com
SUMMARY:Performing with "Nick Matthews Band" @ Fat Daddy's
DESCRIPTION:Share this:\n				Click to share on Facebook (Opens in new window)\n				Facebook\n			\n				Click to share on X (Opens in new window)\n				X
URL:https://mikeoliverrocks.com/event/performing-with-nick-matthews-band-fat-daddys/
LOCATION:Fat Daddy’s\, 119 Driftwood Shores Ln\, Dover\, TN\, 37058\, United States
ATTACH;FMTTYPE=image/jpeg:https://mikeoliverrocks.com/wp-content/uploads/2020/03/Fat_Daddys.jpg
END:VEVENT
BEGIN:VEVENT
DTSTART;TZID=America/Chicago:20200515T000100
DTEND;TZID=America/Chicago:20200516T235900
DTSTAMP:20260421T075456
CREATED:20200304T200804Z
LAST-MODIFIED:20200304T200805Z
UID:532-1589500860-1589673540@mikeoliverrocks.com
SUMMARY:Vacation
DESCRIPTION:Share this:\n				Click to share on Facebook (Opens in new window)\n				Facebook\n			\n				Click to share on X (Opens in new window)\n				X
URL:https://mikeoliverrocks.com/event/vacation/
END:VEVENT
BEGIN:VEVENT
DTSTART;TZID=America/Chicago:20200508T213000
DTEND;TZID=America/Chicago:20200509T013000
DTSTAMP:20260421T075456
CREATED:20200304T195434Z
LAST-MODIFIED:20200304T195435Z
UID:524-1588973400-1588987800@mikeoliverrocks.com
SUMMARY:Playing Guitar with "Nick Matthews Band" @ MJ's Sports Bar
DESCRIPTION:Playing Guitar with “Nick Matthews Band”. Great\, smoke-free venue! \n\n\n\n\n\n\n\n\n\n\nShare this:\n				Click to share on Facebook (Opens in new window)\n				Facebook\n			\n				Click to share on X (Opens in new window)\n				X
URL:https://mikeoliverrocks.com/event/playing-guitar-with-nick-matthews-band-mjs-sports-bar-2/
LOCATION:MJ’s Sports Bar and Grill Pool Hall\, 1253 NW Broad St\, Murfreesboro\, TN\, 37129\, United States
CATEGORIES:Country Music,Live Music,Rock Music
ATTACH;FMTTYPE=image/jpeg:https://mikeoliverrocks.com/wp-content/uploads/2020/02/MJs_Cropped_Logo.jpg
END:VEVENT
BEGIN:VEVENT
DTSTART;TZID=America/Chicago:20200425T190000
DTEND;TZID=America/Chicago:20200425T230000
DTSTAMP:20260421T075456
CREATED:20200202T202804Z
LAST-MODIFIED:20200202T202804Z
UID:508-1587841200-1587855600@mikeoliverrocks.com
SUMMARY:Playing Guitar with "Rapid Waters Band" @ Half Time Sports Bar
DESCRIPTION:Performing a mix of country & classic rock with “Rapid Waters Band” \n\n\n\n\n\n\n\n\nShare this:\n				Click to share on Facebook (Opens in new window)\n				Facebook\n			\n				Click to share on X (Opens in new window)\n				X
URL:https://mikeoliverrocks.com/event/playing-guitar-with-rapid-waters-band-half-time-sports-bar-2/
LOCATION:Half Time Sports Bar & Grill\, 209 W Eastland Ave\, Gallatin\, TN\, 37066\, United States
CATEGORIES:Country Music,Live Music,Rock Music
END:VEVENT
BEGIN:VEVENT
DTSTART;TZID=America/Chicago:20200418T200000
DTEND;TZID=America/Chicago:20200419T000000
DTSTAMP:20260421T075456
CREATED:20200202T202557Z
LAST-MODIFIED:20200202T202558Z
UID:506-1587240000-1587254400@mikeoliverrocks.com
SUMMARY:Playing Guitar with "Rapid Waters Band" @ Keller's Bar & Grill
DESCRIPTION:Performing a mix of country & classic rock with “Rapid Waters Band” \n\n\n\n\n\n\n\n\nShare this:\n				Click to share on Facebook (Opens in new window)\n				Facebook\n			\n				Click to share on X (Opens in new window)\n				X
URL:https://mikeoliverrocks.com/event/playing-guitar-with-rapid-waters-band-kellers-bar-grill-2/
LOCATION:Keller’s Bar & Grill\, 325 Highway 25 W\, Castalian Springs\, TN\, 37031\, United States
CATEGORIES:Country Music,Live Music,Rock Music
ATTACH;FMTTYPE=image/jpeg:https://mikeoliverrocks.com/wp-content/uploads/2020/02/Kellers_bar_and_grill.jpg
END:VEVENT
BEGIN:VEVENT
DTSTART;TZID=America/Chicago:20200410T213000
DTEND;TZID=America/Chicago:20200411T013000
DTSTAMP:20260421T075456
CREATED:20200202T202459Z
LAST-MODIFIED:20200202T202647Z
UID:504-1586554200-1586568600@mikeoliverrocks.com
SUMMARY:Playing Guitar with "Nick Matthews Band" @ MJ's Sports Bar
DESCRIPTION:Playing Guitar with “Nick Matthews Band”. Great\, smoke-free venue! \n\n\n\n\n\n\n\n\n\n\nShare this:\n				Click to share on Facebook (Opens in new window)\n				Facebook\n			\n				Click to share on X (Opens in new window)\n				X
URL:https://mikeoliverrocks.com/event/playing-guitar-with-nick-matthews-band-mjs-sports-bar/
LOCATION:MJ’s Sports Bar and Grill Pool Hall\, 1253 NW Broad St\, Murfreesboro\, TN\, 37129\, United States
CATEGORIES:Country Music,Live Music,Rock Music
ATTACH;FMTTYPE=image/jpeg:https://mikeoliverrocks.com/wp-content/uploads/2020/02/MJs_Cropped_Logo.jpg
END:VEVENT
BEGIN:VEVENT
DTSTART;TZID=America/Chicago:20200404T190000
DTEND;TZID=America/Chicago:20200404T230000
DTSTAMP:20260421T075456
CREATED:20200306T164930Z
LAST-MODIFIED:20200306T164931Z
UID:536-1586026800-1586041200@mikeoliverrocks.com
SUMMARY:Private Party with "Rapid Waters Band"
DESCRIPTION:Share this:\n				Click to share on Facebook (Opens in new window)\n				Facebook\n			\n				Click to share on X (Opens in new window)\n				X
URL:https://mikeoliverrocks.com/event/private-party-with-rapid-waters-band-2/
CATEGORIES:Live Music
END:VEVENT
BEGIN:VEVENT
DTSTART;TZID=America/Chicago:20200328T190000
DTEND;TZID=America/Chicago:20200328T230000
DTSTAMP:20260421T075456
CREATED:20200202T202404Z
LAST-MODIFIED:20200202T202404Z
UID:502-1585422000-1585436400@mikeoliverrocks.com
SUMMARY:Playing Guitar with "Rapid Waters Band" @ Half Time Sports Bar
DESCRIPTION:Performing a mix of country & classic rock with “Rapid Waters Band” \n\n\n\n\n\n\n\n\nShare this:\n				Click to share on Facebook (Opens in new window)\n				Facebook\n			\n				Click to share on X (Opens in new window)\n				X
URL:https://mikeoliverrocks.com/event/playing-guitar-with-rapid-waters-band-half-time-sports-bar/
LOCATION:Half Time Sports Bar & Grill\, 209 W Eastland Ave\, Gallatin\, TN\, 37066\, United States
CATEGORIES:Country Music,Live Music,Rock Music
END:VEVENT
BEGIN:VEVENT
DTSTART;TZID=America/Chicago:20200321T200000
DTEND;TZID=America/Chicago:20200322T000000
DTSTAMP:20260421T075456
CREATED:20200202T202021Z
LAST-MODIFIED:20200202T202312Z
UID:499-1584820800-1584835200@mikeoliverrocks.com
SUMMARY:Playing Guitar with "Rapid Waters Band" @ Keller's Bar & Grill
DESCRIPTION:Performing a mix of country & classic rock with “Rapid Waters Band” \n\n\n\n\n\n\n\n\nShare this:\n				Click to share on Facebook (Opens in new window)\n				Facebook\n			\n				Click to share on X (Opens in new window)\n				X
URL:https://mikeoliverrocks.com/event/playing-guitar-with-rapid-waters-band-kellers-bar-grill/
LOCATION:Keller’s Bar & Grill\, 325 Highway 25 W\, Castalian Springs\, TN\, 37031\, United States
CATEGORIES:Country Music,Live Music,Rock Music
ATTACH;FMTTYPE=image/jpeg:https://mikeoliverrocks.com/wp-content/uploads/2020/02/Kellers_bar_and_grill.jpg
END:VEVENT
BEGIN:VEVENT
DTSTART;TZID=America/Chicago:20200313T190000
DTEND;TZID=America/Chicago:20200313T230000
DTSTAMP:20260421T075456
CREATED:20200304T195153Z
LAST-MODIFIED:20200304T195154Z
UID:522-1584126000-1584140400@mikeoliverrocks.com
SUMMARY:Private Party
DESCRIPTION:Share this:\n				Click to share on Facebook (Opens in new window)\n				Facebook\n			\n				Click to share on X (Opens in new window)\n				X
URL:https://mikeoliverrocks.com/event/private-party/
LOCATION:Westmoreland Expo Center\, 4401 Fleetwood Drive\, Westmoreland\, TN\, 37186\, United States
END:VEVENT
BEGIN:VEVENT
DTSTART;TZID=America/Chicago:20200306T213000
DTEND;TZID=America/Chicago:20200307T013000
DTSTAMP:20260421T075456
CREATED:20200202T201047Z
LAST-MODIFIED:20200202T201749Z
UID:490-1583530200-1583544600@mikeoliverrocks.com
SUMMARY:Playing Guitar with "Nick Matthews Band" @ MJ's Sports Bar
DESCRIPTION:Playing Guitar with “Nick Matthews Band”. Great\, smoke-free venue! \n\n\n\n\n\n\n\n\n\n\nShare this:\n				Click to share on Facebook (Opens in new window)\n				Facebook\n			\n				Click to share on X (Opens in new window)\n				X
URL:https://mikeoliverrocks.com/event/playing-guitar-with-nick-matthews-band-2/
LOCATION:MJ’s Sports Bar and Grill Pool Hall\, 1253 NW Broad St\, Murfreesboro\, TN\, 37129\, United States
CATEGORIES:Country Music,Live Music,Rock Music
ATTACH;FMTTYPE=image/jpeg:https://mikeoliverrocks.com/wp-content/uploads/2020/02/MJs_Cropped_Logo.jpg
END:VEVENT
BEGIN:VEVENT
DTSTART;TZID=America/Chicago:20200229T190000
DTEND;TZID=America/Chicago:20200229T230000
DTSTAMP:20260421T075456
CREATED:20200202T183706Z
LAST-MODIFIED:20200202T201931Z
UID:480-1583002800-1583017200@mikeoliverrocks.com
SUMMARY:Playing Guitar with "Rapid Waters Band" @ Half Time Sports Bar
DESCRIPTION:Performing a mix of country & classic rock with “Rapid Waters Band” \n\n\n\n\n\n\n\n\nShare this:\n				Click to share on Facebook (Opens in new window)\n				Facebook\n			\n				Click to share on X (Opens in new window)\n				X
URL:https://mikeoliverrocks.com/event/playing-guitar-with-rapid-waters-band-2/
LOCATION:Half Time Sports Bar & Grill\, 209 W Eastland Ave\, Gallatin\, TN\, 37066\, United States
CATEGORIES:Country Music,Live Music,Rock Music
END:VEVENT
BEGIN:VEVENT
DTSTART;TZID=America/Chicago:20200228T193000
DTEND;TZID=America/Chicago:20200228T223000
DTSTAMP:20260421T075456
CREATED:20200122T155829Z
LAST-MODIFIED:20200212T215214Z
UID:463-1582918200-1582929000@mikeoliverrocks.com
SUMMARY:90’s Country Show @ Oscar's Sports Grille!
DESCRIPTION:Come out and hear some of your favorite country tunes from the 1990’s\, plus a few others! \n\n\n\n\n\n\n\n\n\n\n\n\nShare this:\n				Click to share on Facebook (Opens in new window)\n				Facebook\n			\n				Click to share on X (Opens in new window)\n				X
URL:https://mikeoliverrocks.com/event/90s-country-show-oscars-sports-grille-2/
LOCATION:Oscar’s Sports Grille\, 971 Memory Lane\, Gallatin\, TN\, 37066\, United States
CATEGORIES:Country Music,Live Music,Rock Music
ATTACH;FMTTYPE=image/jpeg:https://mikeoliverrocks.com/wp-content/uploads/2020/01/oscars_sports_grille.jpg
END:VEVENT
BEGIN:VEVENT
DTSTART;TZID=America/Chicago:20200222T200000
DTEND;TZID=America/Chicago:20200223T000000
DTSTAMP:20260421T075456
CREATED:20200202T195922Z
LAST-MODIFIED:20200202T201824Z
UID:485-1582401600-1582416000@mikeoliverrocks.com
SUMMARY:Playing Guitar with "Nick Matthews Band" @ Back Roads Bar & Grill
DESCRIPTION:Performing with “Nick Matthews Band” \n\n\n\n \n\n\n\n\n\n\nShare this:\n				Click to share on Facebook (Opens in new window)\n				Facebook\n			\n				Click to share on X (Opens in new window)\n				X
URL:https://mikeoliverrocks.com/event/playing-guitar-with-nick-matthews-band/
LOCATION:Back Roads Bar & Grill\, 3548 Tom Austin Hwy\, Springfield\, TN\, 37172\, United States
CATEGORIES:Country Music,Live Music,Rock Music
ATTACH;FMTTYPE=image/jpeg:https://mikeoliverrocks.com/wp-content/uploads/2020/02/backroads_bar_and_grill.jpg
END:VEVENT
BEGIN:VEVENT
DTSTART;TZID=America/Chicago:20200215T200000
DTEND;TZID=America/Chicago:20200216T000000
DTSTAMP:20260421T075456
CREATED:20200202T183357Z
LAST-MODIFIED:20200202T201851Z
UID:478-1581796800-1581811200@mikeoliverrocks.com
SUMMARY:Playing Guitar with "Rapid Waters Band" @ Keller's Bar & Grill
DESCRIPTION:Performing a mix of country & classic rock with “Rapid Waters Band” \n\n\n\n\n\n\n\n\nShare this:\n				Click to share on Facebook (Opens in new window)\n				Facebook\n			\n				Click to share on X (Opens in new window)\n				X
URL:https://mikeoliverrocks.com/event/playing-guitar-with-rapid-waters-band/
LOCATION:Keller’s Bar & Grill\, 325 Highway 25 W\, Castalian Springs\, TN\, 37031\, United States
CATEGORIES:Country Music,Live Music,Rock Music
ATTACH;FMTTYPE=image/jpeg:https://mikeoliverrocks.com/wp-content/uploads/2020/02/Kellers_bar_and_grill.jpg
END:VEVENT
BEGIN:VEVENT
DTSTART;TZID=America/Chicago:20200208T200000
DTEND;TZID=America/Chicago:20200208T230000
DTSTAMP:20260421T075456
CREATED:20200202T181831Z
LAST-MODIFIED:20200202T201845Z
UID:460-1581192000-1581202800@mikeoliverrocks.com
SUMMARY:Valentine Show @ Cherokee Steakhouse
DESCRIPTION:Valentines Theme \n\n\n\n\n\n\n\n\n\n\nShare this:\n				Click to share on Facebook (Opens in new window)\n				Facebook\n			\n				Click to share on X (Opens in new window)\n				X
URL:https://mikeoliverrocks.com/event/valentine-show-cherokee-steakhouse/
LOCATION:Cherokee Steakhouse\, Marina & Campground\, 450 Cherokee Dock Road\, Gallatin\, TN\, 37087\, United States
CATEGORIES:Country Music,Live Music,Rock Music
ATTACH;FMTTYPE=image/png:https://mikeoliverrocks.com/wp-content/uploads/2020/02/cherokee_steakhouse_marina_and_campground.png
END:VEVENT
BEGIN:VEVENT
DTSTART;TZID=America/Chicago:20200207T193000
DTEND;TZID=America/Chicago:20200207T223000
DTSTAMP:20260421T075456
CREATED:20200122T153111Z
LAST-MODIFIED:20200202T201835Z
UID:454-1581103800-1581114600@mikeoliverrocks.com
SUMMARY:90’s Country Show @ Oscar's Sports Grille!
DESCRIPTION:Come out and hear some of your favorite country tunes from the 1990’s\, plus a few others! \n\n\n\n\n\n\n\n\n\n\n\n\nShare this:\n				Click to share on Facebook (Opens in new window)\n				Facebook\n			\n				Click to share on X (Opens in new window)\n				X
URL:https://mikeoliverrocks.com/event/90s-country-show-oscars-sports-grille/
LOCATION:Oscar’s Sports Grille\, 971 Memory Lane\, Gallatin\, TN\, 37066\, United States
CATEGORIES:Country Music,Live Music
ATTACH;FMTTYPE=image/jpeg:https://mikeoliverrocks.com/wp-content/uploads/2020/01/oscars_sports_grille.jpg
END:VEVENT
BEGIN:VEVENT
DTSTART;TZID=America/Chicago:20191206T193000
DTEND;TZID=America/Chicago:20191206T233000
DTSTAMP:20260421T075456
CREATED:20191108T170745Z
LAST-MODIFIED:20191203T215209Z
UID:438-1575660600-1575675000@mikeoliverrocks.com
SUMMARY:90's Country Show @ Half Time Sports Bar!
DESCRIPTION:90’s Country Show!\n\n\n\n\n\n\n\n\n\n\nShare this:\n				Click to share on Facebook (Opens in new window)\n				Facebook\n			\n				Click to share on X (Opens in new window)\n				X
URL:https://mikeoliverrocks.com/event/mike-oliver-band/
LOCATION:Half Time Sports Bar & Grill\, 209 W Eastland Ave\, Gallatin\, TN\, 37066\, United States
END:VEVENT
END:VCALENDAR